BEGIN:VCALENDAR
VERSION:2.0
PRODID:-//wp-events-plugin.com//7.2.3.1//EN
TZID:Europe/Paris
X-WR-TIMEZONE:Europe/Paris
BEGIN:VEVENT
UID:5303@agenda24.fr
DTSTART;TZID=Europe/Paris:20250214T190000
DTEND;TZID=Europe/Paris:20250214T190000
DTSTAMP:20250213T102953Z
URL:https://agenda24.fr/evenements/soiree-cafe-theatre-le-chamoine/
SUMMARY:Soirée café-théâtre - Le Chamoine
DESCRIPTION:Une soirée exceptionnelle dans la pure tradition du Café-Thé
 âtre. Au programme : sketches en cascade\, jovialité\, gaité\, fantaisi
 e\,  verve\, entrain. Avec Les Acteurs Pourpres !\n\nAvec Innétuh\, Arami
 ss\, Mona\, Céléstine\, Abrazo. Sylvie Joly est la marraine d'honneur\n\
 nAu menu : \n\n- Apéritif : samoussa au poulet OU verrine d'espuma de cra
 be et betterave rouge\n- Entrée : Duo de foie gras mi-cuit aux figues et 
 à la mangue\, toasts de pain brioché\n- Plat : Pavé de thon Rossini\, g
 alettes  de riz sauvage\,  tagliatelles de légumes OU Carré d'Agneau en 
 croûte d'herbe\, ail confit\, garniture grand-mère et son jus d'agneau.\
 n- Dessert : Douceur de Saint Valentin au chocolat et framboise
CATEGORIES:Spectacle
LOCATION:Le Chamoine\, 11 Rue de l'Ancien Pont\, Bergerac\, France
GEO:44.8495317;0.48381829
X-APPLE-STRUCTURED-LOCATION;VALUE=URI;X-ADDRESS=11 Rue de l'Ancien Pont\, B
 ergerac\, France;X-APPLE-RADIUS=100;X-TITLE=Le Chamoine:geo:44.8495317,0.4
 8381829
END:VEVENT
BEGIN:VTIMEZONE
TZID:Europe/Paris
X-LIC-LOCATION:Europe/Paris
BEGIN:STANDARD
DTSTART:20241027T020000
TZOFFSETFROM:+0200
TZOFFSETTO:+0100
TZNAME:CET
END:STANDARD
END:VTIMEZONE
END:VCALENDAR