BEGIN:VCALENDAR
VERSION:2.0
PRODID:-//wp-events-plugin.com//7.2.3.1//EN
TZID:Europe/Paris
X-WR-TIMEZONE:Europe/Paris
BEGIN:VEVENT
UID:8315@agenda24.fr
DTSTART;TZID=Europe/Paris:20250912T193000
DTEND;TZID=Europe/Paris:20250912T234500
DTSTAMP:20250907T164649Z
URL:https://agenda24.fr/evenements/soiree-belote-ginguette-du-touroulet/
SUMMARY:Soirée belote - Ginguette du Touroulet
DESCRIPTION:Inscriptions sur place !\n\nRestauration à partir de 19h.
CATEGORIES:Evènement à thème,Jeux
LOCATION:Le cocon des canailles\, Le cocon des canailles\, Chalais\, France
GEO:45.50201;0.91325
X-APPLE-STRUCTURED-LOCATION;VALUE=URI;X-ADDRESS=Le cocon des canailles\, Ch
 alais\, France;X-APPLE-RADIUS=100;X-TITLE=Le cocon des canailles:geo:45.50
 201,0.91325
END:VEVENT
BEGIN:VTIMEZONE
TZID:Europe/Paris
X-LIC-LOCATION:Europe/Paris
BEGIN:DAYLIGHT
DTSTART:20250330T030000
TZOFFSETFROM:+0100
TZOFFSETTO:+0200
TZNAME:CEST
END:DAYLIGHT
END:VTIMEZONE
END:VCALENDAR