BEGIN:VCALENDAR
VERSION:2.0
PRODID:-//wp-events-plugin.com//7.2.3.1//EN
TZID:Europe/Paris
X-WR-TIMEZONE:Europe/Paris
BEGIN:VEVENT
UID:9654@agenda24.fr
DTSTART;TZID=Europe/Paris:20251128T203000
DTEND;TZID=Europe/Paris:20251128T203000
DTSTAMP:20251101T090332Z
URL:https://agenda24.fr/evenements/soiree-autour-dun-livre/
SUMMARY:Soirée autour d'un livre
DESCRIPTION:Soirée autour d’un livre. Présence de l’auteur local Gabr
 iel Alarcon-Ramos pour parler de son livre La Bête de la Double accompagn
 é d’un conteur d’histoires de loups et de garous et de son orgue de B
 arbarie et la présence de la Librairie l'Atypique de Montpon– 18h30-06 
 62 28 85 17\n
CATEGORIES:Rencontre / Conférence / Discussion
LOCATION:Foyer municipal\, Foyer municipal\, le Pizou\, France
GEO:45.023961;0.06262
X-APPLE-STRUCTURED-LOCATION;VALUE=URI;X-ADDRESS=Foyer municipal\, le Pizou\
 , France;X-APPLE-RADIUS=100;X-TITLE=Foyer municipal:geo:45.023961,0.06262
END:VEVENT
BEGIN:VTIMEZONE
TZID:Europe/Paris
X-LIC-LOCATION:Europe/Paris
BEGIN:STANDARD
DTSTART:20251026T020000
TZOFFSETFROM:+0200
TZOFFSETTO:+0100
TZNAME:CET
END:STANDARD
END:VTIMEZONE
END:VCALENDAR