BEGIN:VCALENDAR
VERSION:2.0
PRODID:-//wp-events-plugin.com//7.2.3.1//EN
TZID:Europe/Paris
X-WR-TIMEZONE:Europe/Paris
BEGIN:VEVENT
UID:5741@agenda24.fr
DTSTART;TZID=Europe/Paris:20250404T180000
DTEND;TZID=Europe/Paris:20250404T220000
DTSTAMP:20250326T135035Z
URL:https://agenda24.fr/evenements/soiree-acoustique/
SUMMARY:Soirée Acoustique
DESCRIPTION:Quai Cyrano organise un concert acoustique animé par le groupe
  Bulmarine : morceaux de guitare\,  voix issues des grands noms du rock\, 
 de la pop\, de la soul et du rythm and blues. \nAccès gratuit & sans rés
 ervation\nDébut du concert à 19h30
CATEGORIES:Concert
LOCATION:Quai Cyrano\, 1 Rue des Récollets\, Bergerac\, France
GEO:44.85011;0.48267
X-APPLE-STRUCTURED-LOCATION;VALUE=URI;X-ADDRESS=1 Rue des Récollets\, Berg
 erac\, France;X-APPLE-RADIUS=100;X-TITLE=Quai Cyrano:geo:44.85011,0.48267
END:VEVENT
BEGIN:VTIMEZONE
TZID:Europe/Paris
X-LIC-LOCATION:Europe/Paris
BEGIN:DAYLIGHT
DTSTART:20250330T030000
TZOFFSETFROM:+0100
TZOFFSETTO:+0200
TZNAME:CEST
END:DAYLIGHT
END:VTIMEZONE
END:VCALENDAR