BEGIN:VCALENDAR
VERSION:2.0
PRODID:-//wp-events-plugin.com//7.2.3.1//EN
TZID:Europe/Paris
X-WR-TIMEZONE:Europe/Paris
BEGIN:VEVENT
UID:5750@agenda24.fr
DTSTART;TZID=Europe/Paris:20250426T143000
DTEND;TZID=Europe/Paris:20250426T143000
DTSTAMP:20250326T135042Z
URL:https://agenda24.fr/evenements/sieste-musicale-3/
SUMMARY:Sieste musicale
DESCRIPTION:Laissez-vous bercer dans le cadre onirique du château de Puygu
 ilhem... Les Interstices en duo vous proposent un voyage musical tout en d
 ouceur\, guitare et voix\, pour une détente inédite. N'oubliez pas d'ame
 ner votre transat ou plaid préféré pour maximiser ce moment de détente
  !\n\nRéservation recommandée (car places limitées).\n\nCette animation
  se déroule en extérieur avec possibilité de repli à l'intérieur en c
 as de mauvais temps. En cas de météo défavorable\, les musiciens jouero
 nt à l'intérieur et le nombre de place sera limité à 40 personnes.\n
CATEGORIES:Concert
LOCATION:Château de Puyguilhem\, 117 Lieu-dit Puyguillem\, Villars\, Franc
 e
GEO:45.42559;0.74518
X-APPLE-STRUCTURED-LOCATION;VALUE=URI;X-ADDRESS=117 Lieu-dit Puyguillem\, V
 illars\, France;X-APPLE-RADIUS=100;X-TITLE=Château de Puyguilhem:geo:45.4
 2559,0.74518
END:VEVENT
BEGIN:VTIMEZONE
TZID:Europe/Paris
X-LIC-LOCATION:Europe/Paris
BEGIN:DAYLIGHT
DTSTART:20250330T030000
TZOFFSETFROM:+0100
TZOFFSETTO:+0200
TZNAME:CEST
END:DAYLIGHT
END:VTIMEZONE
END:VCALENDAR