BEGIN:VCALENDAR
VERSION:2.0
PRODID:-//wp-events-plugin.com//7.2.3.1//EN
TZID:Europe/Paris
X-WR-TIMEZONE:Europe/Paris
BEGIN:VEVENT
UID:3981@agenda24.fr
DTSTART;TZID=Europe/Paris:20241208T153000
DTEND;TZID=Europe/Paris:20241208T153000
DTSTAMP:20241030T091320Z
URL:https://agenda24.fr/evenements/seule-en-scene-un-arc-en-ciel-damour/
SUMMARY:Seule en scène - Un arc-en-ciel d'amour
DESCRIPTION:
CATEGORIES:Spectacle
LOCATION:Atrium\, Atrium\, Vergt\, France
GEO:45.02939;0.71915
X-APPLE-STRUCTURED-LOCATION;VALUE=URI;X-ADDRESS=Atrium\, Vergt\, France;X-A
 PPLE-RADIUS=100;X-TITLE=Atrium:geo:45.02939,0.71915
END:VEVENT
BEGIN:VTIMEZONE
TZID:Europe/Paris
X-LIC-LOCATION:Europe/Paris
BEGIN:STANDARD
DTSTART:20241027T020000
TZOFFSETFROM:+0200
TZOFFSETTO:+0100
TZNAME:CET
END:STANDARD
END:VTIMEZONE
END:VCALENDAR