BEGIN:VCALENDAR
VERSION:2.0
PRODID:-//wp-events-plugin.com//7.2.3.1//EN
TZID:Europe/Paris
X-WR-TIMEZONE:Europe/Paris
BEGIN:VEVENT
UID:4085@agenda24.fr
DTSTART;TZID=Europe/Paris:20241116T090000
DTEND;TZID=Europe/Paris:20241116T120000
DTSTAMP:20241030T091122Z
URL:https://agenda24.fr/evenements/session-de-3h-lautomne-une-invitation-a
 -transformer-la-deprime-saisonniere-en-terreau-de-renaissance/
SUMMARY:Session de 3h - L’Automne\, une invitation à transformer la dé
 prime  saisonnière en terreau de renaissance
DESCRIPTION:
CATEGORIES:Atelier / Stage
LOCATION:De Terre En Etoiles\, 1762\, route des Villages\, Sazerat\, Jumilh
 ac-le-Grand\, France
GEO:45.5106987;1.07759138
X-APPLE-STRUCTURED-LOCATION;VALUE=URI;X-ADDRESS=1762\, route des Villages\,
  Sazerat\, Jumilhac-le-Grand\, France;X-APPLE-RADIUS=100;X-TITLE=De Terre 
 En Etoiles:geo:45.5106987,1.07759138
END:VEVENT
BEGIN:VTIMEZONE
TZID:Europe/Paris
X-LIC-LOCATION:Europe/Paris
BEGIN:STANDARD
DTSTART:20241027T020000
TZOFFSETFROM:+0200
TZOFFSETTO:+0100
TZNAME:CET
END:STANDARD
END:VTIMEZONE
END:VCALENDAR