BEGIN:VCALENDAR
VERSION:2.0
PRODID:-//wp-events-plugin.com//7.2.3.1//EN
TZID:Europe/Paris
X-WR-TIMEZONE:Europe/Paris
BEGIN:VEVENT
UID:8300@agenda24.fr
DTSTART;TZID=Europe/Paris:20250916T130000
DTEND;TZID=Europe/Paris:20250916T170000
DTSTAMP:20250905T121345Z
URL:https://agenda24.fr/evenements/semaine-europeenne-de-la-mobilite-durab
 le-essais-de-velos-jeux-stands-etc/
SUMMARY:Semaine européenne de la mobilité durable (essais de vélos\, jeu
 x\, stands\, etc.)
DESCRIPTION:Avec le soutien du Pays Périgord Vert et de la Communauté de 
 commune Isle Loue Auvézère\, une après-midi riche en animations :\n\n 	
 essai de vélos à assistance électrique\n 	Atelier Mobile avec FEEL OUT 
 d'Excideuil \n 	plateau d’initiation\, balade en ville avec Ça Rouille
 \n 	Animation "Itinéraire Bis suivre Multimodalité "par des Jantes et de
 s Gens \n 	stand dédié à la multimodalité.\n
CATEGORIES:Atelier / Stage
LOCATION:6 Pl. du Dr Achille Moulinier\, 6 Pl. du Dr Achille Moulinier\, Ex
 cideuil\, France
X-APPLE-STRUCTURED-LOCATION;VALUE=URI;X-ADDRESS=6 Pl. du Dr Achille Moulini
 er\, Excideuil\, France;X-APPLE-RADIUS=100;X-TITLE=6 Pl. du Dr Achille Mou
 linier:geo:0,0
END:VEVENT
BEGIN:VTIMEZONE
TZID:Europe/Paris
X-LIC-LOCATION:Europe/Paris
BEGIN:DAYLIGHT
DTSTART:20250330T030000
TZOFFSETFROM:+0100
TZOFFSETTO:+0200
TZNAME:CEST
END:DAYLIGHT
END:VTIMEZONE
END:VCALENDAR