BEGIN:VCALENDAR
VERSION:2.0
PRODID:-//wp-events-plugin.com//7.2.3.1//EN
TZID:Europe/Paris
X-WR-TIMEZONE:Europe/Paris
BEGIN:VEVENT
UID:8306@agenda24.fr
DTSTART;TZID=Europe/Paris:20250920T130000
DTEND;TZID=Europe/Paris:20250920T170000
DTSTAMP:20250905T121827Z
URL:https://agenda24.fr/evenements/semaine-europeenne-de-la-mobilite-durab
 le-challenge-mobilitims/
SUMMARY:Semaine européenne de la mobilité durable - Challenge MOBILI'TIMS
DESCRIPTION:\n\nDéfi collectif autour de la multimodalité !\n\n 	13h30 : 
 rendez-vous à la gare de Périgueux (stand info sur les différents moyen
 s de transport).\n 	14h36 : départ du bus ligne A\, du convoi vélos et t
 rottinettes vers l’atelier DJDG.\n 	14h52 : arrivée à l’atelier pour
  participer aux animations.\n 	16h29 : retour en bus vers la gare.\n\nUne 
 expérience ludique pour montrer qu’il est possible de combiner plusieur
 s modes de transport dans ses déplacements quotidiens.\n\n
CATEGORIES:Atelier / Stage
LOCATION:Des Jantes et des gens\, 42 chemin de Saltgourde \, Périgueux \, 
 24000\, France
GEO:45.196292;0.677691
X-APPLE-STRUCTURED-LOCATION;VALUE=URI;X-ADDRESS=42 chemin de Saltgourde \, 
 Périgueux \, 24000\, France;X-APPLE-RADIUS=100;X-TITLE=Des Jantes et des 
 gens:geo:45.196292,0.677691
END:VEVENT
BEGIN:VTIMEZONE
TZID:Europe/Paris
X-LIC-LOCATION:Europe/Paris
BEGIN:DAYLIGHT
DTSTART:20250330T030000
TZOFFSETFROM:+0100
TZOFFSETTO:+0200
TZNAME:CEST
END:DAYLIGHT
END:VTIMEZONE
END:VCALENDAR