BEGIN:VCALENDAR
VERSION:2.0
PRODID:-//wp-events-plugin.com//7.2.3.1//EN
TZID:Europe/Paris
X-WR-TIMEZONE:Europe/Paris
BEGIN:VEVENT
UID:8301@agenda24.fr
DTSTART;TZID=Europe/Paris:20250917T090000
DTEND;TZID=Europe/Paris:20250917T130000
DTSTAMP:20250905T121454Z
URL:https://agenda24.fr/evenements/semaine-europeenne-de-la-mobilite-durab
 le-a-saint-aulaye-et-la-roche-chalais/
SUMMARY:Semaine européenne de la mobilité durable à Saint Aulaye
DESCRIPTION:En partenariat avec AVELO et le Pays de l’Isle : le matin\, a
 nimation Petite Reine Sereine à Saint-Aulaye\, et l’après-midi Atelier
  Mobile à La Roche-Chalais.
CATEGORIES:Atelier / Stage
LOCATION:Saint Aulaye\, 9\, Rue du Dr Lacroix\, Saint Aulaye\, 24410\, Fran
 ce
X-APPLE-STRUCTURED-LOCATION;VALUE=URI;X-ADDRESS=9\, Rue du Dr Lacroix\, Sai
 nt Aulaye\, 24410\, France;X-APPLE-RADIUS=100;X-TITLE=Saint Aulaye:geo:0,0
END:VEVENT
BEGIN:VTIMEZONE
TZID:Europe/Paris
X-LIC-LOCATION:Europe/Paris
BEGIN:DAYLIGHT
DTSTART:20250330T030000
TZOFFSETFROM:+0100
TZOFFSETTO:+0200
TZNAME:CEST
END:DAYLIGHT
END:VTIMEZONE
END:VCALENDAR