BEGIN:VCALENDAR
VERSION:2.0
PRODID:-//wp-events-plugin.com//7.2.3.1//EN
TZID:Europe/Paris
X-WR-TIMEZONE:Europe/Paris
BEGIN:VEVENT
UID:8304@agenda24.fr
DTSTART;TZID=Europe/Paris:20250918T170000
DTEND;TZID=Europe/Paris:20250918T200000
DTSTAMP:20250905T121644Z
URL:https://agenda24.fr/evenements/semaine-europeenne-de-la-mobilite-durab
 le-a-nontron/
SUMMARY:Semaine européenne de la mobilité durable à Nontron
DESCRIPTION:\n\n\n\n\nNontron\nLa Loco\n\n\n\n\n\n\nUn temps fort autour de
  la mobilité et du vélo\, en partenariat avec le Pays du Périgord Vert\
 , la CC du Nontronnais et la Recyclerie du Bandiat.\n\n&nbsp\;\n\nAu progr
 amme :\n\n 	tests de vélos électriques\, \n 	En Roue Libre\, \n 	Petit
 e Reine Sereine \n 	Atelier Mobile.\n\n\n\n\n
CATEGORIES:Atelier / Stage
LOCATION:La loco\, Place des droits de l'Homme\, Nontron\, France
GEO:45.5234047;0.6601702
X-APPLE-STRUCTURED-LOCATION;VALUE=URI;X-ADDRESS=Place des droits de l'Homme
 \, Nontron\, France;X-APPLE-RADIUS=100;X-TITLE=La loco:geo:45.5234047,0.66
 01702
END:VEVENT
BEGIN:VTIMEZONE
TZID:Europe/Paris
X-LIC-LOCATION:Europe/Paris
BEGIN:DAYLIGHT
DTSTART:20250330T030000
TZOFFSETFROM:+0100
TZOFFSETTO:+0200
TZNAME:CEST
END:DAYLIGHT
END:VTIMEZONE
END:VCALENDAR