BEGIN:VCALENDAR
VERSION:2.0
PRODID:-//wp-events-plugin.com//7.2.3.1//EN
TZID:Europe/Paris
X-WR-TIMEZONE:Europe/Paris
BEGIN:VEVENT
UID:8302@agenda24.fr
DTSTART;TZID=Europe/Paris:20250917T140000
DTEND;TZID=Europe/Paris:20250917T170000
DTSTAMP:20250905T121555Z
URL:https://agenda24.fr/evenements/semaine-europeenne-de-la-mobilite-durab
 le-a-la-roche-chalais/
SUMMARY:Semaine européenne de la mobilité durable à La Roche Chalais
DESCRIPTION:En partenariat avec AVELO et le Pays de l’Isle : le matin\, a
 nimation Petite Reine Sereine à Saint-Aulaye\, et l’après-midi Atelier
  Mobile à La Roche-Chalais.
CATEGORIES:Atelier / Stage
END:VEVENT
BEGIN:VTIMEZONE
TZID:Europe/Paris
X-LIC-LOCATION:Europe/Paris
BEGIN:DAYLIGHT
DTSTART:20250330T030000
TZOFFSETFROM:+0100
TZOFFSETTO:+0200
TZNAME:CEST
END:DAYLIGHT
END:VTIMEZONE
END:VCALENDAR