BEGIN:VCALENDAR
VERSION:2.0
PRODID:-//wp-events-plugin.com//7.2.3.1//EN
TZID:Europe/Paris
X-WR-TIMEZONE:Europe/Paris
BEGIN:VEVENT
UID:8305@agenda24.fr
DTSTART;TZID=Europe/Paris:20250919T080000
DTEND;TZID=Europe/Paris:20250919T120000
DTSTAMP:20250905T121726Z
URL:https://agenda24.fr/evenements/semaine-europeenne-de-la-mobilite-durab
 le-a-brantome/
SUMMARY:Semaine européenne de la mobilité durable à Brantôme
DESCRIPTION:Sur le marché\, animations autour du vélo en partenariat avec
  Ça Rouille\, la Récréative de Thiviers\, le Pays du Périgord Vert et 
 la CC Dronne &amp\; Belle. Vous pourrez retrouver l’Atelier Mobile et En
  Roue Libre.
CATEGORIES:Atelier / Stage
LOCATION:Place du marché\, Place du marché\, Brantôme\, France
GEO:45.365187;0.647394
X-APPLE-STRUCTURED-LOCATION;VALUE=URI;X-ADDRESS=Place du marché\, Brantôm
 e\, France;X-APPLE-RADIUS=100;X-TITLE=Place du marché:geo:45.365187,0.647
 394
END:VEVENT
BEGIN:VTIMEZONE
TZID:Europe/Paris
X-LIC-LOCATION:Europe/Paris
BEGIN:DAYLIGHT
DTSTART:20250330T030000
TZOFFSETFROM:+0100
TZOFFSETTO:+0200
TZNAME:CEST
END:DAYLIGHT
END:VTIMEZONE
END:VCALENDAR