BEGIN:VCALENDAR
VERSION:2.0
PRODID:-//wp-events-plugin.com//7.2.3.1//EN
TZID:Europe/Paris
X-WR-TIMEZONE:Europe/Paris
BEGIN:VEVENT
UID:11694@agenda24.fr
DTSTART;TZID=Europe/Paris:20260305T110000
DTEND;TZID=Europe/Paris:20260305T110000
DTSTAMP:20260301T135042Z
URL:https://agenda24.fr/evenements/semaine-de-loccitanie-los-zinzonaires-e
 t-gilles-becdelievre/
SUMMARY:Semaine de l'Occitanie - Los Zinzonaires et Gilles Becdelièvre
DESCRIPTION:Atelier découverte des danses et des musiques traditionnelles 
 pour public scolaire.\nL’association « Los Zinzonaires » œuvre pour l
 a transmissions des musiques traditionnelles en Périgord\, notamment au t
 ravers d’ateliers d’instruments traditionnels (vielle à roue\, chabre
 tte\, cornemuse du Périgord et du Limousin\, accordéons diatonique et ch
 romatique\, violon...) et d’ateliers de danses traditionnelles. Ils vien
 dront nous présenter leurs instruments\, faire essayer\, et faire danser 
 en soirée.\n\nRéservation conseillée au 06 37 54 63 68.
CATEGORIES:Atelier / Stage
LOCATION:Salle des fêtes "La Calypso"\, Salle des fêtes "La Calypso"\, Be
 aumont-du-Périgord\, France
GEO:44.7664934;0.7679464
X-APPLE-STRUCTURED-LOCATION;VALUE=URI;X-ADDRESS=Salle des fêtes \"La Calyp
 so\"\, Beaumont-du-Périgord\, France;X-APPLE-RADIUS=100;X-TITLE=Salle des
  fêtes \"La Calypso\":geo:44.7664934,0.7679464
END:VEVENT
BEGIN:VTIMEZONE
TZID:Europe/Paris
X-LIC-LOCATION:Europe/Paris
BEGIN:STANDARD
DTSTART:20251026T020000
TZOFFSETFROM:+0200
TZOFFSETTO:+0100
TZNAME:CET
END:STANDARD
END:VTIMEZONE
END:VCALENDAR