BEGIN:VCALENDAR
VERSION:2.0
PRODID:-//wp-events-plugin.com//7.2.3.1//EN
TZID:Europe/Paris
X-WR-TIMEZONE:Europe/Paris
BEGIN:VEVENT
UID:11695@agenda24.fr
DTSTART;TZID=Europe/Paris:20260305T203000
DTEND;TZID=Europe/Paris:20260305T203000
DTSTAMP:20260319T212008Z
URL:https://agenda24.fr/evenements/semaine-de-loccitanie-bal-trad-los-zinz
 onaires-et-gilles-becdelievre/
SUMMARY:Semaine de l'Occitanie -Bal trad - Los Zinzonaires et Gilles Becdel
 ièvre
DESCRIPTION:Bal traditionnel à la salle des fêtes de Beaumont-du-Périgor
 d.\n\nTarif : 10€ par adulte et gratuit pour les moins de 18 ans\nRéser
 vation conseillée au 06 37 54 63 68.
CATEGORIES:Soirées dansantes
LOCATION:Salles des fêtes\, Bassilac\, Bassilac\, 
X-APPLE-STRUCTURED-LOCATION;VALUE=URI;X-ADDRESS=Bassilac\, Bassilac\, ;X-AP
 PLE-RADIUS=100;X-TITLE=Salles des fêtes:geo:0,0
END:VEVENT
BEGIN:VTIMEZONE
TZID:Europe/Paris
X-LIC-LOCATION:Europe/Paris
BEGIN:STANDARD
DTSTART:20251026T020000
TZOFFSETFROM:+0200
TZOFFSETTO:+0100
TZNAME:CET
END:STANDARD
END:VTIMEZONE
END:VCALENDAR