BEGIN:VCALENDAR
VERSION:2.0
PRODID:-//wp-events-plugin.com//7.2.3.1//EN
TZID:Europe/Paris
X-WR-TIMEZONE:Europe/Paris
BEGIN:VEVENT
UID:5740@agenda24.fr
DTSTART;TZID=Europe/Paris:20250405T190000
DTEND;TZID=Europe/Paris:20250405T190000
DTSTAMP:20250326T135035Z
URL:https://agenda24.fr/evenements/sans-reserve-here-comes-the-prog-avec-z
 ombie-dog-dj-set-au-graal/
SUMMARY:Sans Réserve - Here comes the prog’ avec zombie dog + dj set au 
 graal
DESCRIPTION:Pour cette première soirée du nouveau trimestre Avril-Juin\, 
 on vous donne rendez-vous au Graal à Périgueux pour des retrouvailles en
  musique avec un concert de Zombie Dog et vous présenter la nouvelle prog
 rammation !\n\n \nZOMBIE DOG // Pop-Punk (Dordogne)\n\nDuo atypique\, Zomb
 ie Dog relève un défi de taille : aller à l’essentiel.\n\nBasse\, bat
 terie\, et deux voix : il n’en faut pas davantage à Eva et à Pam pour 
 distiller leur science pop-punk. Sonorités vintage et mélodies imparable
 s\, l’absence totale d’artifices et le second degré rendent le duo ra
 fraîchissant.\n\nZombie Dog propose un voyage sonore velu mais pas très 
 inquiétant dans un monde imaginaire\, peuplé de dauphins\, de squelettes
 \, et où l’on rigole bien.\n\n \n+ Dj set
CATEGORIES:Concert
LOCATION:Le Graal\, 10 rue Condé\, Périgueux\, France
GEO:45.1832272;0.71928904
X-APPLE-STRUCTURED-LOCATION;VALUE=URI;X-ADDRESS=10 rue Condé\, Périgueux\
 , France;X-APPLE-RADIUS=100;X-TITLE=Le Graal:geo:45.1832272,0.71928904
END:VEVENT
BEGIN:VTIMEZONE
TZID:Europe/Paris
X-LIC-LOCATION:Europe/Paris
BEGIN:DAYLIGHT
DTSTART:20250330T030000
TZOFFSETFROM:+0100
TZOFFSETTO:+0200
TZNAME:CEST
END:DAYLIGHT
END:VTIMEZONE
END:VCALENDAR