BEGIN:VCALENDAR
VERSION:2.0
PRODID:-//wp-events-plugin.com//7.2.3.1//EN
TZID:Europe/Paris
X-WR-TIMEZONE:Europe/Paris
BEGIN:VEVENT
UID:3841@agenda24.fr
DTSTART;TZID=Europe/Paris:20241116T103000
DTEND;TZID=Europe/Paris:20241116T110000
DTSTAMP:20241030T085701Z
URL:https://agenda24.fr/evenements/sans-reserve-dedans-dehors/
SUMMARY:Sans Réserve - Dedans Dehors
DESCRIPTION:
CATEGORIES:Dédié aux enfants
LOCATION:La Filature\, 15 Chemin des Feutres\, Périgueux\, France
GEO:45.1985629;0.69814433
X-APPLE-STRUCTURED-LOCATION;VALUE=URI;X-ADDRESS=15 Chemin des Feutres\, Pé
 rigueux\, France;X-APPLE-RADIUS=100;X-TITLE=La Filature:geo:45.1985629,0.6
 9814433
END:VEVENT
BEGIN:VTIMEZONE
TZID:Europe/Paris
X-LIC-LOCATION:Europe/Paris
BEGIN:STANDARD
DTSTART:20241027T020000
TZOFFSETFROM:+0200
TZOFFSETTO:+0100
TZNAME:CET
END:STANDARD
END:VTIMEZONE
END:VCALENDAR