BEGIN:VCALENDAR
VERSION:2.0
PRODID:-//wp-events-plugin.com//7.2.3.1//EN
TZID:Europe/Paris
X-WR-TIMEZONE:Europe/Paris
BEGIN:VEVENT
UID:5943@agenda24.fr
DTSTART;TZID=Europe/Paris:20250405T140000
DTEND;TZID=Europe/Paris:20250405T220000
DTSTAMP:20250326T140649Z
URL:https://agenda24.fr/evenements/salon-du-bien-etre/
SUMMARY:Salon du Bien-Être
DESCRIPTION:L'association Essence et Harmony a le plaisir d'organiser un Sa
 lon du Bien-Être\, qui se tiendra les 5 et 6 Avril 2025 au Château la Ti
 lleraie.\n\nCet événement ouvert à tous proposera :\n\n    Des stands d
 e praticiens bien-être (massages\, sophrologie\, naturopathie etc)\n    D
 es ateliers découverte et conférences tout au long du week-end.\n    Une
  ambiance conviviale et ressourçante dans un cadre exceptionnel.\n
CATEGORIES:Marché / Foire / Brocante
LOCATION:Château de la Tilleraie\, Route des Côtes de Pécharmant\, Berge
 rac\, France
GEO:44.86518;0.5132
X-APPLE-STRUCTURED-LOCATION;VALUE=URI;X-ADDRESS=Route des Côtes de Péchar
 mant\, Bergerac\, France;X-APPLE-RADIUS=100;X-TITLE=Château de la Tillera
 ie:geo:44.86518,0.5132
END:VEVENT
BEGIN:VTIMEZONE
TZID:Europe/Paris
X-LIC-LOCATION:Europe/Paris
BEGIN:DAYLIGHT
DTSTART:20250330T030000
TZOFFSETFROM:+0100
TZOFFSETTO:+0200
TZNAME:CEST
END:DAYLIGHT
END:VTIMEZONE
END:VCALENDAR