BEGIN:VCALENDAR
VERSION:2.0
PRODID:-//wp-events-plugin.com//7.2.3.1//EN
TZID:Europe/Paris
X-WR-TIMEZONE:Europe/Paris
BEGIN:VEVENT
UID:11185@agenda24.fr
DTSTART;TZID=Europe/Paris:20260205T134500
DTEND;TZID=Europe/Paris:20260205T180000
DTSTAMP:20260425T130127Z
URL:
SUMMARY:Salon de coiffure à la Brouette
DESCRIPTION:Profitez d'un moment de bien-être et de beauté au café libra
 irie Les Amis de la Brouette !\n\nDe 13h45 à 15h : offrez-vous un moment 
 de détente avec un atelier d'auto-modelage du cuir chevelu à prix libre 
 et conscient.\n\nDe 15h à 18h : venez les cheveux propres vous faire coup
 er et coiffer les cheveux pour un tarif unique.\n\nSur réservation.
LOCATION:Les Amis de la Brouette\, Le Bourg\, Saint-Aubin-de-Lanquais\, Fra
 nce
GEO:44.794456;0.596946
X-APPLE-STRUCTURED-LOCATION;VALUE=URI;X-ADDRESS=Le Bourg\, Saint-Aubin-de-L
 anquais\, France;X-APPLE-RADIUS=100;X-TITLE=Les Amis de la Brouette:geo:44
 .794456,0.596946
END:VEVENT
BEGIN:VTIMEZONE
TZID:Europe/Paris
X-LIC-LOCATION:Europe/Paris
BEGIN:STANDARD
DTSTART:20251026T020000
TZOFFSETFROM:+0200
TZOFFSETTO:+0100
TZNAME:CET
END:STANDARD
END:VTIMEZONE
END:VCALENDAR