BEGIN:VCALENDAR
VERSION:2.0
PRODID:-//wp-events-plugin.com//7.2.3.1//EN
TZID:Europe/Paris
X-WR-TIMEZONE:Europe/Paris
BEGIN:VEVENT
UID:5905@agenda24.fr
DTSTART;TZID=Europe/Paris:20250419T160000
DTEND;TZID=Europe/Paris:20250419T190000
DTSTAMP:20250326T140705Z
URL:https://agenda24.fr/evenements/salade-de-jeux/
SUMMARY:Salade de jeux
DESCRIPTION:Viens partager un bon moment autour du jeu. Tout public de 6 à
  153 ans. En partenariat avec Association d'idées.\n
CATEGORIES:Jeux
LOCATION:Médiathèque\, Médiathèque\, Saint-Pardoux-La-Riviere\, France
GEO:45.49312;0.74467
X-APPLE-STRUCTURED-LOCATION;VALUE=URI;X-ADDRESS=Médiathèque\, Saint-Pardo
 ux-La-Riviere\, France;X-APPLE-RADIUS=100;X-TITLE=Médiathèque:geo:45.493
 12,0.74467
END:VEVENT
BEGIN:VTIMEZONE
TZID:Europe/Paris
X-LIC-LOCATION:Europe/Paris
BEGIN:DAYLIGHT
DTSTART:20250330T030000
TZOFFSETFROM:+0100
TZOFFSETTO:+0200
TZNAME:CEST
END:DAYLIGHT
END:VTIMEZONE
END:VCALENDAR