BEGIN:VCALENDAR
VERSION:2.0
PRODID:-//wp-events-plugin.com//7.2.3.1//EN
TZID:Europe/Paris
X-WR-TIMEZONE:Europe/Paris
BEGIN:VEVENT
UID:9668@agenda24.fr
DTSTART;TZID=Europe/Paris:20251204T200000
DTEND;TZID=Europe/Paris:20251204T200000
DTSTAMP:20251101T090409Z
URL:https://agenda24.fr/evenements/repas-dansant-des-sapeurs-pompiers-de-s
 aint-aulaye/
SUMMARY:Repas dansant des sapeurs pompiers de Saint-Aulaye
DESCRIPTION:Saint-Aulaye\, Salle des fêtes Joséphine Baker.\nRepas dansan
 t des sapeurs pompiers de Saint-Aulaye à 20h30\, \nRenseignements : 06.86
 .87.46.41 (sur réservation)\n
CATEGORIES:Soirées dansantes
LOCATION:Saint-Aulaye\, Saint-Aulaye\, Saint-Aulaye\, France
GEO:45.2019546;0.13338349
X-APPLE-STRUCTURED-LOCATION;VALUE=URI;X-ADDRESS=Saint-Aulaye\, Saint-Aulaye
 \, France;X-APPLE-RADIUS=100;X-TITLE=Saint-Aulaye:geo:45.2019546,0.1333834
 9
END:VEVENT
BEGIN:VTIMEZONE
TZID:Europe/Paris
X-LIC-LOCATION:Europe/Paris
BEGIN:STANDARD
DTSTART:20251026T020000
TZOFFSETFROM:+0200
TZOFFSETTO:+0100
TZNAME:CET
END:STANDARD
END:VTIMEZONE
END:VCALENDAR