BEGIN:VCALENDAR
VERSION:2.0
PRODID:-//wp-events-plugin.com//7.2.3.1//EN
TZID:Europe/Paris
X-WR-TIMEZONE:Europe/Paris
BEGIN:VEVENT
UID:5257@agenda24.fr
DTSTART;TZID=Europe/Paris:20250222T193000
DTEND;TZID=Europe/Paris:20250222T193000
DTSTAMP:20250213T103012Z
URL:https://agenda24.fr/evenements/repas-dansant-annees-80/
SUMMARY:Repas dansant "Années 80"
DESCRIPTION:Repas dansant animé par DJ Jean Philippe Buffière\n
CATEGORIES:Soirées dansantes
LOCATION:Salle des fêtes\, Salle des fêtes\, Vaunac\, France
GEO:45.36398;0.86491
X-APPLE-STRUCTURED-LOCATION;VALUE=URI;X-ADDRESS=Salle des fêtes\, Vaunac\,
  France;X-APPLE-RADIUS=100;X-TITLE=Salle des fêtes:geo:45.36398,0.86491
END:VEVENT
BEGIN:VTIMEZONE
TZID:Europe/Paris
X-LIC-LOCATION:Europe/Paris
BEGIN:STANDARD
DTSTART:20241027T020000
TZOFFSETFROM:+0200
TZOFFSETTO:+0100
TZNAME:CET
END:STANDARD
END:VTIMEZONE
END:VCALENDAR