BEGIN:VCALENDAR
VERSION:2.0
PRODID:-//wp-events-plugin.com//7.2.3.1//EN
TZID:Europe/Paris
X-WR-TIMEZONE:Europe/Paris
BEGIN:VEVENT
UID:9666@agenda24.fr
DTSTART;TZID=Europe/Paris:20251116T120000
DTEND;TZID=Europe/Paris:20251116T120000
DTSTAMP:20251101T090409Z
URL:https://agenda24.fr/evenements/repas-dansant-9/
SUMMARY:Repas dansant
DESCRIPTION:Soirée animée par Happy Music\n\nMenu : apéritif\, potage\, 
 jambon braisé\, haricots verts et purée de patates douces\, salade\, fro
 mage\, bavarois fruits rouges\, vin\, café.\n\n12h\, salle des fêtes. \n
 Tarif : 25 €\nSur réservation\n\nLa Clé du Temps 06 68 58 40 59\n
CATEGORIES:Soirées dansantes
LOCATION:Salle des fêtes\, Le Bourg\, Saint-Germain-du-Salembre\, France
GEO:45.1381652;0.44759003
X-APPLE-STRUCTURED-LOCATION;VALUE=URI;X-ADDRESS=Le Bourg\, Saint-Germain-du
 -Salembre\, France;X-APPLE-RADIUS=100;X-TITLE=Salle des fêtes:geo:45.1381
 652,0.44759003
END:VEVENT
BEGIN:VTIMEZONE
TZID:Europe/Paris
X-LIC-LOCATION:Europe/Paris
BEGIN:STANDARD
DTSTART:20251026T020000
TZOFFSETFROM:+0200
TZOFFSETTO:+0100
TZNAME:CET
END:STANDARD
END:VTIMEZONE
END:VCALENDAR