BEGIN:VCALENDAR
VERSION:2.0
PRODID:-//wp-events-plugin.com//7.2.3.1//EN
TZID:Europe/Paris
X-WR-TIMEZONE:Europe/Paris
BEGIN:VEVENT
UID:9665@agenda24.fr
DTSTART;TZID=Europe/Paris:20251122T120000
DTEND;TZID=Europe/Paris:20251122T120000
DTSTAMP:20251101T090409Z
URL:https://agenda24.fr/evenements/repas-dansant-8/
SUMMARY:Repas dansant
DESCRIPTION:Repas dansant –Apéritif\, crème de potiron\, filet de sole 
 farcie\, noix de veau-haricots-verts-pommes dauphines\, salade\, fromages\
 , framboisier\, café et vins compris à 12h à la salle communale sur ré
 servation 30 € pour les non adhérents au Foyer de l’Amitié – 07 69
  45 54 63
CATEGORIES:Soirées dansantes
LOCATION:Salle communale\, Salle communale\, Saint-Martial-D'artenset\, Fra
 nce
GEO:45.015891;0.20429039
X-APPLE-STRUCTURED-LOCATION;VALUE=URI;X-ADDRESS=Salle communale\, Saint-Mar
 tial-D'artenset\, France;X-APPLE-RADIUS=100;X-TITLE=Salle communale:geo:45
 .015891,0.20429039
END:VEVENT
BEGIN:VTIMEZONE
TZID:Europe/Paris
X-LIC-LOCATION:Europe/Paris
BEGIN:STANDARD
DTSTART:20251026T020000
TZOFFSETFROM:+0200
TZOFFSETTO:+0100
TZNAME:CET
END:STANDARD
END:VTIMEZONE
END:VCALENDAR