BEGIN:VCALENDAR
VERSION:2.0
PRODID:-//wp-events-plugin.com//7.2.3.1//EN
TZID:Europe/Paris
X-WR-TIMEZONE:Europe/Paris
BEGIN:VEVENT
UID:9664@agenda24.fr
DTSTART;TZID=Europe/Paris:20251115T190000
DTEND;TZID=Europe/Paris:20251115T190000
DTSTAMP:20251101T090409Z
URL:https://agenda24.fr/evenements/repas-dansant-7/
SUMMARY:Repas dansant
DESCRIPTION:Au menu : kir\, mises en bouche\, feuilleté de tomates\, Mozar
 ella\, Pot au feu et son riz\, fromage\, mousse au chocolat\, café\, vin.
  Prix 30€.\nSoirée animée par DJ XR7.\nSur réservation.\nOrganisé pa
 r le club de l'amitié.
CATEGORIES:Soirées dansantes
LOCATION:Salle du château\, Salle du château\, Excideuil\, France
GEO:45.33614;1.05006
X-APPLE-STRUCTURED-LOCATION;VALUE=URI;X-ADDRESS=Salle du château\, Excideu
 il\, France;X-APPLE-RADIUS=100;X-TITLE=Salle du château:geo:45.33614,1.05
 006
END:VEVENT
BEGIN:VTIMEZONE
TZID:Europe/Paris
X-LIC-LOCATION:Europe/Paris
BEGIN:STANDARD
DTSTART:20251026T020000
TZOFFSETFROM:+0200
TZOFFSETTO:+0100
TZNAME:CET
END:STANDARD
END:VTIMEZONE
END:VCALENDAR