BEGIN:VCALENDAR
VERSION:2.0
PRODID:-//wp-events-plugin.com//7.2.3.1//EN
TZID:Europe/Paris
X-WR-TIMEZONE:Europe/Paris
BEGIN:VEVENT
UID:5256@agenda24.fr
DTSTART;TZID=Europe/Paris:20250222T200000
DTEND;TZID=Europe/Paris:20250222T200000
DTSTAMP:20250213T103012Z
URL:https://agenda24.fr/evenements/repas-dansant-5/
SUMMARY:Repas dansant
DESCRIPTION:Repas dansant: kir\, velouté de butternut\, poulet au champagn
 e\, salade\, fromage\, café gourmand. Animé par DJ Eric. Adulte 20€.\n
 Réservations jusqu'au 15 février dans la limite des places disponibles. 
 Bourriche.
CATEGORIES:Soirées dansantes
LOCATION:Salle des fêtes\, Salle des fêtes\, Condat-sur-Trincou\, France
GEO:45.3813863;0.70885427
X-APPLE-STRUCTURED-LOCATION;VALUE=URI;X-ADDRESS=Salle des fêtes\, Condat-s
 ur-Trincou\, France;X-APPLE-RADIUS=100;X-TITLE=Salle des fêtes:geo:45.381
 3863,0.70885427
END:VEVENT
BEGIN:VTIMEZONE
TZID:Europe/Paris
X-LIC-LOCATION:Europe/Paris
BEGIN:STANDARD
DTSTART:20241027T020000
TZOFFSETFROM:+0200
TZOFFSETTO:+0100
TZNAME:CET
END:STANDARD
END:VTIMEZONE
END:VCALENDAR