BEGIN:VCALENDAR
VERSION:2.0
PRODID:-//wp-events-plugin.com//7.2.3.1//EN
TZID:Europe/Paris
X-WR-TIMEZONE:Europe/Paris
BEGIN:VEVENT
UID:5254@agenda24.fr
DTSTART;TZID=Europe/Paris:20250302T120000
DTEND;TZID=Europe/Paris:20250302T120000
DTSTAMP:20250213T103011Z
URL:https://agenda24.fr/evenements/repas-dansant-4/
SUMMARY:Repas dansant
DESCRIPTION:Menu : potage\, poule et son farci\, fromage\, dessert\, kir\, 
 1 bouteille de vin pour 4\, café. Inscription avant le 21/02 au 06.89.84.
 83.58 ou au 07.81.25.21.77
CATEGORIES:Soirées dansantes
LOCATION:Salle du capitolet\, Salle du capitolet\, Abjat-sur-Bandiat\, Fran
 ce
GEO:45.58539;0.75666
X-APPLE-STRUCTURED-LOCATION;VALUE=URI;X-ADDRESS=Salle du capitolet\, Abjat-
 sur-Bandiat\, France;X-APPLE-RADIUS=100;X-TITLE=Salle du capitolet:geo:45.
 58539,0.75666
END:VEVENT
BEGIN:VTIMEZONE
TZID:Europe/Paris
X-LIC-LOCATION:Europe/Paris
BEGIN:STANDARD
DTSTART:20241027T020000
TZOFFSETFROM:+0200
TZOFFSETTO:+0100
TZNAME:CET
END:STANDARD
END:VTIMEZONE
END:VCALENDAR