BEGIN:VCALENDAR
VERSION:2.0
PRODID:-//wp-events-plugin.com//7.2.3.1//EN
TZID:Europe/Paris
X-WR-TIMEZONE:Europe/Paris
BEGIN:VEVENT
UID:4029@agenda24.fr
DTSTART;TZID=Europe/Paris:20241123T193000
DTEND;TZID=Europe/Paris:20241123T193000
DTSTAMP:20241030T091146Z
URL:https://agenda24.fr/evenements/repas-dansant-3/
SUMMARY:Repas dansant
DESCRIPTION:
CATEGORIES:Soirées dansantes
LOCATION:Foyer rural\, Foyer rural\, Saint-Saud-Lacoussiere\, France
GEO:45.54343;0.81884
X-APPLE-STRUCTURED-LOCATION;VALUE=URI;X-ADDRESS=Foyer rural\, Saint-Saud-La
 coussiere\, France;X-APPLE-RADIUS=100;X-TITLE=Foyer rural:geo:45.54343,0.8
 1884
END:VEVENT
BEGIN:VTIMEZONE
TZID:Europe/Paris
X-LIC-LOCATION:Europe/Paris
BEGIN:STANDARD
DTSTART:20241027T020000
TZOFFSETFROM:+0200
TZOFFSETTO:+0100
TZNAME:CET
END:STANDARD
END:VTIMEZONE
END:VCALENDAR