BEGIN:VCALENDAR
VERSION:2.0
PRODID:-//wp-events-plugin.com//7.2.3.1//EN
TZID:Europe/Paris
X-WR-TIMEZONE:Europe/Paris
BEGIN:VEVENT
UID:9653@agenda24.fr
DTSTART;TZID=Europe/Paris:20251127T183000
DTEND;TZID=Europe/Paris:20251127T183000
DTSTAMP:20251101T090332Z
URL:https://agenda24.fr/evenements/rencontres-judiciaires/
SUMMARY:Rencontres Judiciaires
DESCRIPTION:Le Tribunal Judiciaire de Bergerac a l'honneur d'accueillir Me 
 Charlotte Thominette\, avocate du barreau de Paris afin de pouvoir la renc
 ontrer et d'échanger sur son livre "Expérience d'une [in]justice ordinai
 re".\n\nLe nombre de place est limitée\, vous pouvez vous inscrire en env
 oyant un mail à l'adresse suivante: letemoindupalais@gmail.com.
CATEGORIES:Rencontre / Conférence / Discussion
LOCATION:Tribunal Judiciaire\, 6 bis Rue des Carmes\, Bergerac\, France
GEO:44.8535502;0.4867874
X-APPLE-STRUCTURED-LOCATION;VALUE=URI;X-ADDRESS=6 bis Rue des Carmes\, Berg
 erac\, France;X-APPLE-RADIUS=100;X-TITLE=Tribunal Judiciaire:geo:44.853550
 2,0.4867874
END:VEVENT
BEGIN:VTIMEZONE
TZID:Europe/Paris
X-LIC-LOCATION:Europe/Paris
BEGIN:STANDARD
DTSTART:20251026T020000
TZOFFSETFROM:+0200
TZOFFSETTO:+0100
TZNAME:CET
END:STANDARD
END:VTIMEZONE
END:VCALENDAR