BEGIN:VCALENDAR
VERSION:2.0
PRODID:-//wp-events-plugin.com//7.2.3.1//EN
TZID:Europe/Paris
X-WR-TIMEZONE:Europe/Paris
BEGIN:VEVENT
UID:5120@agenda24.fr
DTSTART;TZID=Europe/Paris:20250213T163000
DTEND;TZID=Europe/Paris:20250213T163000
DTSTAMP:20250213T093413Z
URL:https://agenda24.fr/evenements/rencontre-poetique-avec-la-bip-a-la-roc
 he-chalais/
SUMMARY:Rencontre poétique avec la BIP à La Roche-Chalais
DESCRIPTION:Jeudi 13 février à 16h30 à la médiathèque (14\, rue de l'A
 pre-Côte) : Rencontre poétique - Avec l'aimable participation de la B.I.
 P. (Brigade d'Intervention Poétique).\nContact : 05.53.90.67.90 - mediath
 eque@larochechalais.fr
CATEGORIES:Rencontre / Conférence / Discussion
LOCATION:Médiathèque\, Médiathèque\, La Roche-Chalais\, France
GEO:45.1535427;0.00780847
X-APPLE-STRUCTURED-LOCATION;VALUE=URI;X-ADDRESS=Médiathèque\, La Roche-Ch
 alais\, France;X-APPLE-RADIUS=100;X-TITLE=Médiathèque:geo:45.1535427,0.0
 0780847
END:VEVENT
BEGIN:VTIMEZONE
TZID:Europe/Paris
X-LIC-LOCATION:Europe/Paris
BEGIN:STANDARD
DTSTART:20241027T020000
TZOFFSETFROM:+0200
TZOFFSETTO:+0100
TZNAME:CET
END:STANDARD
END:VTIMEZONE
END:VCALENDAR