BEGIN:VCALENDAR
VERSION:2.0
PRODID:-//wp-events-plugin.com//7.2.3.1//EN
TZID:Europe/Paris
X-WR-TIMEZONE:Europe/Paris
BEGIN:VEVENT
UID:5615@agenda24.fr
DTSTART;TZID=Europe/Paris;VALUE=DATE:20250405
DTEND;TZID=Europe/Paris;VALUE=DATE:20250406
DTSTAMP:20250326T123542Z
URL:https://agenda24.fr/evenements/rencontre-et-exposition-des-planches-de
 -son-album-documentaire-au-loup-chronique-dun-retour/
SUMMARY:Rencontre avec Troubs et exposition des planches de son album docum
 entaire Au loup ! - chronique d'un retour
DESCRIPTION:\n\n\n\n\n\n\n\n\n\n\n\n\n\n\n\n\n\n\n\n\n\nAvis aux habitant.e
 .s de l'autre côté de la (rivière) Dordogne : Troubs inaugurera la supe
 rbe exposition des planches de son album documentaire Au loup ! - chroniqu
 e d'un retour (un de nos coups de coeur 2024 !) avec une rencontre et une 
 séance de dédicaces à la médiathèque de Prigonrieux !\n\nL'exposition
  se poursuivra jusqu'au 3 mai !\n\nIl sera présent aussi présent au Fest
 ival de la BD de Bergerac les 5 et 6 avril au musée Dordonha.\n\n\n\n\n\n
 \n\n\n\n\n\n\n\n\n\n\n\n\n\n\n\n\n\n\n\n\n\n\n\n\n\n\n\n\n\n\n\n\n\n\n\n\n
 \n\n\n\n\n\n\n\n\n\n\n\n\n\n\n\n\n\n\n\nPour ou contre le retour du loup s
 ur le plateau de Millevaches ? Loin des clichés binaires\, Troubs\, fameu
 x dessinateur périgourdin\, interroge une coexistence possible avec ce pr
 édateur mythique avec humour et clairvoyance ! - Sara\n\n\n\n\n\n\n\n\n\n
 \n\n\n\n\n\n\n\n\n\n\n
CATEGORIES:Evènement à thème
LOCATION:Dordonha\, Rue de la petite mission\, Bergerac\, France
GEO:44.8511596;0.48307322
X-APPLE-STRUCTURED-LOCATION;VALUE=URI;X-ADDRESS=Rue de la petite mission\, 
 Bergerac\, France;X-APPLE-RADIUS=100;X-TITLE=Dordonha:geo:44.8511596,0.483
 07322
END:VEVENT
BEGIN:VTIMEZONE
TZID:Europe/Paris
X-LIC-LOCATION:Europe/Paris
BEGIN:DAYLIGHT
DTSTART:20250330T030000
TZOFFSETFROM:+0100
TZOFFSETTO:+0200
TZNAME:CEST
END:DAYLIGHT
END:VTIMEZONE
END:VCALENDAR