BEGIN:VCALENDAR
VERSION:2.0
PRODID:-//wp-events-plugin.com//7.2.3.1//EN
TZID:Europe/Paris
X-WR-TIMEZONE:Europe/Paris
BEGIN:VEVENT
UID:5149@agenda24.fr
DTSTART;TZID=Europe/Paris:20250213T190000
DTEND;TZID=Europe/Paris:20250213T190000
DTSTAMP:20250213T093359Z
URL:https://agenda24.fr/evenements/rencontre-et-dedicace-avec-leila-sliman
 i/
SUMMARY:Rencontre et dédicace avec Leïla Slimani
DESCRIPTION:Vous la connaissez sans doute pour son prix Goncourt 2016 Chans
 on douce. Avant cela\, certains avaient peut-être déjà remarqué "Dans 
 le jardin de l'ogre" en 2014. Toujours est-il qu'elle confirme son talent 
 dès 2020 avec le premier tome de sa trilogie "Le Pays des autres".\nC'est
  donc avec une émotion incroyable que nous la recevons pour la conclusion
  de cette saga "J'emporterai le feu".
CATEGORIES:Rencontre / Conférence / Discussion
LOCATION:Librairie La Colline aux Livres\, Place Louis de la Bardonnie\, Be
 rgerac\, France
GEO:44.8518512;0.48383185
X-APPLE-STRUCTURED-LOCATION;VALUE=URI;X-ADDRESS=Place Louis de la Bardonnie
 \, Bergerac\, France;X-APPLE-RADIUS=100;X-TITLE=Librairie La Colline aux L
 ivres:geo:44.8518512,0.48383185
END:VEVENT
BEGIN:VTIMEZONE
TZID:Europe/Paris
X-LIC-LOCATION:Europe/Paris
BEGIN:STANDARD
DTSTART:20241027T020000
TZOFFSETFROM:+0200
TZOFFSETTO:+0100
TZNAME:CET
END:STANDARD
END:VTIMEZONE
END:VCALENDAR