BEGIN:VCALENDAR
VERSION:2.0
PRODID:-//wp-events-plugin.com//7.2.3.1//EN
TZID:Europe/Paris
X-WR-TIMEZONE:Europe/Paris
BEGIN:VEVENT
UID:5119@agenda24.fr
DTSTART;TZID=Europe/Paris:20250214T180000
DTEND;TZID=Europe/Paris:20250214T180000
DTSTAMP:20250213T093421Z
URL:https://agenda24.fr/evenements/rencontre-avec-isabelle-de-cassandre/
SUMMARY:Rencontre avec Isabelle de Cassandre
DESCRIPTION:Vendredi 14 février à 18h à la médiathèque (14\, rue de l'
 Apre-Côte) : Rencontre avec Isabelle de Cassandre (autrice) Présentation
  et dédicaces.\nContact : 05.53.90.67.90 - mediatheque@larochechalais.fr
CATEGORIES:Rencontre / Conférence / Discussion
LOCATION:Médiathèque\, Médiathèque\, La Roche-Chalais\, France
GEO:45.1535427;0.00780847
X-APPLE-STRUCTURED-LOCATION;VALUE=URI;X-ADDRESS=Médiathèque\, La Roche-Ch
 alais\, France;X-APPLE-RADIUS=100;X-TITLE=Médiathèque:geo:45.1535427,0.0
 0780847
END:VEVENT
BEGIN:VTIMEZONE
TZID:Europe/Paris
X-LIC-LOCATION:Europe/Paris
BEGIN:STANDARD
DTSTART:20241027T020000
TZOFFSETFROM:+0200
TZOFFSETTO:+0100
TZNAME:CET
END:STANDARD
END:VTIMEZONE
END:VCALENDAR