BEGIN:VCALENDAR
VERSION:2.0
PRODID:-//wp-events-plugin.com//7.2.3.1//EN
TZID:Europe/Paris
X-WR-TIMEZONE:Europe/Paris
BEGIN:VEVENT
UID:3959@agenda24.fr
DTSTART;TZID=Europe/Paris:20241102T203000
DTEND;TZID=Europe/Paris:20241102T203000
DTSTAMP:20241030T091320Z
URL:https://agenda24.fr/evenements/recit-le-fusil-tordu/
SUMMARY:Récit "Le Fusil tordu"
DESCRIPTION:
CATEGORIES:Spectacle
LOCATION:Salle de la Rivière\, Salle de la Rivière\, Montrem\, France
GEO:45.1509069;0.57735441
X-APPLE-STRUCTURED-LOCATION;VALUE=URI;X-ADDRESS=Salle de la Rivière\, Mont
 rem\, France;X-APPLE-RADIUS=100;X-TITLE=Salle de la Rivière:geo:45.150906
 9,0.57735441
END:VEVENT
BEGIN:VTIMEZONE
TZID:Europe/Paris
X-LIC-LOCATION:Europe/Paris
BEGIN:STANDARD
DTSTART:20241027T020000
TZOFFSETFROM:+0200
TZOFFSETTO:+0100
TZNAME:CET
END:STANDARD
END:VTIMEZONE
END:VCALENDAR