BEGIN:VCALENDAR
VERSION:2.0
PRODID:-//wp-events-plugin.com//7.2.3.1//EN
TZID:Europe/Paris
X-WR-TIMEZONE:Europe/Paris
BEGIN:VEVENT
UID:4082@agenda24.fr
DTSTART;TZID=Europe/Paris:20241115T100000
DTEND;TZID=Europe/Paris:20241115T120000
DTSTAMP:20241030T091122Z
URL:https://agenda24.fr/evenements/realisation-de-savons-atelier-dautomne/
SUMMARY:Réalisation de savons - Atelier d'automne
DESCRIPTION:
CATEGORIES:Atelier / Stage
LOCATION:La Traverse\, La Traverse \, Bergerac\, France
GEO:44.86008;0.47325
X-APPLE-STRUCTURED-LOCATION;VALUE=URI;X-ADDRESS=La Traverse \, Bergerac\, F
 rance;X-APPLE-RADIUS=100;X-TITLE=La Traverse:geo:44.86008,0.47325
END:VEVENT
BEGIN:VTIMEZONE
TZID:Europe/Paris
X-LIC-LOCATION:Europe/Paris
BEGIN:STANDARD
DTSTART:20241027T020000
TZOFFSETFROM:+0200
TZOFFSETTO:+0100
TZNAME:CET
END:STANDARD
END:VTIMEZONE
END:VCALENDAR