BEGIN:VCALENDAR
VERSION:2.0
PRODID:-//wp-events-plugin.com//7.2.3.1//EN
TZID:Europe/Paris
X-WR-TIMEZONE:Europe/Paris
BEGIN:VEVENT
UID:10309@agenda24.fr
DTSTART;TZID=Europe/Paris:20251213T203000
DTEND;TZID=Europe/Paris:20251213T203000
DTSTAMP:20251210T134620Z
URL:https://agenda24.fr/evenements/quine-5/
SUMMARY:Quine
DESCRIPTION:Ne manquez pas la grande Quine du comité des fêtes de Saint-P
 ierre-d'Eyraud !\n\nVenez passer un moment convivial et repartez peut-êtr
 e avec l’un des nombreux lots exceptionnels mis en jeu.\n\nAmbiance gara
 ntie\, surprises au rendez-vous !
CATEGORIES:Jeux
LOCATION:Foyer Municipal\, Foyer Municipal\, Saint-Pierre-D'eyraud\, France
GEO:44.8487476;0.3196297
X-APPLE-STRUCTURED-LOCATION;VALUE=URI;X-ADDRESS=Foyer Municipal\, Saint-Pie
 rre-D'eyraud\, France;X-APPLE-RADIUS=100;X-TITLE=Foyer Municipal:geo:44.84
 87476,0.3196297
END:VEVENT
BEGIN:VTIMEZONE
TZID:Europe/Paris
X-LIC-LOCATION:Europe/Paris
BEGIN:STANDARD
DTSTART:20251026T020000
TZOFFSETFROM:+0200
TZOFFSETTO:+0100
TZNAME:CET
END:STANDARD
END:VTIMEZONE
END:VCALENDAR