BEGIN:VCALENDAR
VERSION:2.0
PRODID:-//wp-events-plugin.com//7.2.3.1//EN
TZID:Europe/Paris
X-WR-TIMEZONE:Europe/Paris
BEGIN:VEVENT
UID:4449@agenda24.fr
DTSTART;TZID=Europe/Paris:20241214T200000
DTEND;TZID=Europe/Paris:20241214T200000
DTSTAMP:20241214T154212Z
URL:https://agenda24.fr/evenements/quine-2/
SUMMARY:Quine
DESCRIPTION:
CATEGORIES:Jeux
LOCATION:Salle des fêtes\, Le bourg\, Saint-Georges-Blancaneix\, France
GEO:44.9227690;0.35054288
X-APPLE-STRUCTURED-LOCATION;VALUE=URI;X-ADDRESS=Le bourg\, Saint-Georges-Bl
 ancaneix\, France;X-APPLE-RADIUS=100;X-TITLE=Salle des fêtes:geo:44.92276
 90,0.35054288
END:VEVENT
BEGIN:VTIMEZONE
TZID:Europe/Paris
X-LIC-LOCATION:Europe/Paris
BEGIN:STANDARD
DTSTART:20241027T020000
TZOFFSETFROM:+0200
TZOFFSETTO:+0100
TZNAME:CET
END:STANDARD
END:VTIMEZONE
END:VCALENDAR