BEGIN:VCALENDAR
VERSION:2.0
PRODID:-//wp-events-plugin.com//7.2.3.1//EN
TZID:Europe/Paris
X-WR-TIMEZONE:Europe/Paris
BEGIN:VEVENT
UID:5973@agenda24.fr
DTSTART;TZID=Europe/Paris:20250406T100000
DTEND;TZID=Europe/Paris:20250406T180000
DTSTAMP:20250326T140643Z
URL:https://agenda24.fr/evenements/puces-des-couturieres-et-loisirs-creati
 fs-a-manzac-sur-vern/
SUMMARY:Puces des Couturières et Loisirs Créatifs à Manzac sur Vern
DESCRIPTION:L'Association Eglise et Patrimoine de Manzac sur Vern organise 
 la 2ème édition des " Puces des Couturières et Loisirs Créatifs "\n\nI
 NFORMATIONS PRATIQUES\n Le 6 avril 2025 à la Salle des Fêtes de Manzac s
 ur Vern de 10h à 18h (Salle Michel GIRARD)\nRéservation exposants au 06 
 52 19 41 02 (Organisation Association Eglise et Patrimoine)\nEntrée gratu
 ite\nTombola\, buvette et restauration
CATEGORIES:Marché / Foire / Brocante
LOCATION:Salle Michel GIRARD\, D4\, Manzac-sur-Vern\, France
GEO:45.0877415;0.58712119
X-APPLE-STRUCTURED-LOCATION;VALUE=URI;X-ADDRESS=D4\, Manzac-sur-Vern\, Fran
 ce;X-APPLE-RADIUS=100;X-TITLE=Salle Michel GIRARD:geo:45.0877415,0.5871211
 9
END:VEVENT
BEGIN:VTIMEZONE
TZID:Europe/Paris
X-LIC-LOCATION:Europe/Paris
BEGIN:DAYLIGHT
DTSTART:20250330T030000
TZOFFSETFROM:+0100
TZOFFSETTO:+0200
TZNAME:CEST
END:DAYLIGHT
END:VTIMEZONE
END:VCALENDAR