BEGIN:VCALENDAR
VERSION:2.0
PRODID:-//wp-events-plugin.com//7.2.3.1//EN
TZID:Europe/Paris
X-WR-TIMEZONE:Europe/Paris
BEGIN:VEVENT
UID:5147@agenda24.fr
DTSTART;TZID=Europe/Paris:20250301T150000
DTEND;TZID=Europe/Paris:20250301T150000
DTSTAMP:20250213T093359Z
URL:https://agenda24.fr/evenements/promenade-decouverte-au-jardin-dhelys-o
 euvre-5/
SUMMARY:Promenade-découverte au jardin d'hélys-oeuvre
DESCRIPTION:''Ecouter-voir'' LŒUVRE du jard-in d'hélys vous accueille pou
 r les premières promenades-découvertes.\nTous les premiers samedi du moi
 s à 15h Alain Piot di Massimo vous emmène pour une promenade-découverte
  du jardin d'hélys-oeuvre\, un atelier-jardin de création artistique de 
 120 000 m2. Sur réservation.\nLe jardin est ouvert tous les jours gratuit
 ement de 15h à 19h.
CATEGORIES:Rencontre / Conférence / Discussion
LOCATION:Le jardin d'hélys-oeuvre\, Le jardin d'hélys-oeuvre\, Saint-Meda
 rd-D'excideuil\, France
GEO:45.3406000;1.0714720
X-APPLE-STRUCTURED-LOCATION;VALUE=URI;X-ADDRESS=Le jardin d'hélys-oeuvre\,
  Saint-Medard-D'excideuil\, France;X-APPLE-RADIUS=100;X-TITLE=Le jardin d'
 hélys-oeuvre:geo:45.3406000,1.0714720
END:VEVENT
BEGIN:VTIMEZONE
TZID:Europe/Paris
X-LIC-LOCATION:Europe/Paris
BEGIN:STANDARD
DTSTART:20241027T020000
TZOFFSETFROM:+0200
TZOFFSETTO:+0100
TZNAME:CET
END:STANDARD
END:VTIMEZONE
END:VCALENDAR