BEGIN:VCALENDAR
VERSION:2.0
PRODID:-//wp-events-plugin.com//7.2.3.1//EN
TZID:Europe/Paris
X-WR-TIMEZONE:Europe/Paris
BEGIN:VEVENT
UID:4010@agenda24.fr
DTSTART;TZID=Europe/Paris:20241102T150000
DTEND;TZID=Europe/Paris:20241102T150000
DTSTAMP:20241030T091147Z
URL:https://agenda24.fr/evenements/promenade-decouverte-au-jardin-dhelys-o
 euvre-2/
SUMMARY:Promenade-découverte au jardin d'hélys-oeuvre
DESCRIPTION:
CATEGORIES:Tourisme / Patrimoine
LOCATION:Le jardin d'hélys-oeuvre\, Le jardin d'hélys-oeuvre\, Saint-Meda
 rd-D'excideuil\, France
GEO:45.3406000;1.0714720
X-APPLE-STRUCTURED-LOCATION;VALUE=URI;X-ADDRESS=Le jardin d'hélys-oeuvre\,
  Saint-Medard-D'excideuil\, France;X-APPLE-RADIUS=100;X-TITLE=Le jardin d'
 hélys-oeuvre:geo:45.3406000,1.0714720
END:VEVENT
BEGIN:VTIMEZONE
TZID:Europe/Paris
X-LIC-LOCATION:Europe/Paris
BEGIN:STANDARD
DTSTART:20241027T020000
TZOFFSETFROM:+0200
TZOFFSETTO:+0100
TZNAME:CET
END:STANDARD
END:VTIMEZONE
END:VCALENDAR