BEGIN:VCALENDAR
VERSION:2.0
PRODID:-//wp-events-plugin.com//7.2.3.1//EN
TZID:Europe/Paris
X-WR-TIMEZONE:Europe/Paris
BEGIN:VEVENT
UID:8316@agenda24.fr
DTSTART;TZID=Europe/Paris:20250917T203000
DTEND;TZID=Europe/Paris:20250917T220000
DTSTAMP:20250907T165037Z
URL:https://agenda24.fr/evenements/projection-du-film-memoire-de-village-g
 inguette-du-touroulet/
SUMMARY:Projection du film "Mémoire de village" - Ginguette du Touroulet
DESCRIPTION:Film tourné à Busserolles.
CATEGORIES:Cinéma,Evènement à thème
LOCATION:Le cocon des canailles\, Le cocon des canailles\, Chalais\, France
GEO:45.50201;0.91325
X-APPLE-STRUCTURED-LOCATION;VALUE=URI;X-ADDRESS=Le cocon des canailles\, Ch
 alais\, France;X-APPLE-RADIUS=100;X-TITLE=Le cocon des canailles:geo:45.50
 201,0.91325
END:VEVENT
BEGIN:VTIMEZONE
TZID:Europe/Paris
X-LIC-LOCATION:Europe/Paris
BEGIN:DAYLIGHT
DTSTART:20250330T030000
TZOFFSETFROM:+0100
TZOFFSETTO:+0200
TZNAME:CEST
END:DAYLIGHT
END:VTIMEZONE
END:VCALENDAR