BEGIN:VCALENDAR
VERSION:2.0
PRODID:-//wp-events-plugin.com//7.2.3.1//EN
TZID:Europe/Paris
X-WR-TIMEZONE:Europe/Paris
BEGIN:VEVENT
UID:10807@agenda24.fr
DTSTART;TZID=Europe/Paris:20260307T143000
DTEND;TZID=Europe/Paris:20260307T173000
DTSTAMP:20260304T231822Z
URL:https://agenda24.fr/evenements/prete-a-me-defendre/
SUMMARY:"Prête à me défendre"
DESCRIPTION:Atelier Self défense réservé aux femmes animé par l'associa
 tion Krav maga Périgueux !
CATEGORIES:Evenement sportif
LOCATION:Gymnase Bertran-de-Born\, rue du gymnase\, Périgueux\, 24000\, Fr
 ance
X-APPLE-STRUCTURED-LOCATION;VALUE=URI;X-ADDRESS=rue du gymnase\, Périgueux
 \, 24000\, France;X-APPLE-RADIUS=100;X-TITLE=Gymnase Bertran-de-Born:geo:0
 ,0
END:VEVENT
BEGIN:VTIMEZONE
TZID:Europe/Paris
X-LIC-LOCATION:Europe/Paris
BEGIN:STANDARD
DTSTART:20251026T020000
TZOFFSETFROM:+0200
TZOFFSETTO:+0100
TZNAME:CET
END:STANDARD
END:VTIMEZONE
END:VCALENDAR