BEGIN:VCALENDAR
VERSION:2.0
PRODID:-//wp-events-plugin.com//7.2.3.1//EN
TZID:Europe/Paris
X-WR-TIMEZONE:Europe/Paris
BEGIN:VEVENT
UID:11710@agenda24.fr
DTSTART;TZID=Europe/Paris:20260307T143000
DTEND;TZID=Europe/Paris:20260307T173000
DTSTAMP:20260301T135042Z
URL:https://agenda24.fr/evenements/prete-a-me-defendre-initiation-a-la-sel
 f-defense/
SUMMARY:Prête à me défendre - Initiation à la self-défense
DESCRIPTION:Mesdames\, soyez prêtes ! Atelier de self défense réservé a
 ux femmes. L'association krav maga Périgueux organise un stage de défens
 e personnelle\, entièrement dédié à la self défense féminine. Le pro
 gramme abordé est conçu pour vous donner les bases nécessaires afin de 
 pouvoir vous défendre face à une agression et vous préserver du danger.
CATEGORIES:Atelier / Stage
LOCATION:Gymnase Bertran de Born\, Rue du Gymnase\, Périgueux\, France
GEO:45.1790719;0.719511
X-APPLE-STRUCTURED-LOCATION;VALUE=URI;X-ADDRESS=Rue du Gymnase\, Périgueux
 \, France;X-APPLE-RADIUS=100;X-TITLE=Gymnase Bertran de Born:geo:45.179071
 9,0.719511
END:VEVENT
BEGIN:VTIMEZONE
TZID:Europe/Paris
X-LIC-LOCATION:Europe/Paris
BEGIN:STANDARD
DTSTART:20251026T020000
TZOFFSETFROM:+0200
TZOFFSETTO:+0100
TZNAME:CET
END:STANDARD
END:VTIMEZONE
END:VCALENDAR