BEGIN:VCALENDAR
VERSION:2.0
PRODID:-//wp-events-plugin.com//7.2.3.1//EN
TZID:Europe/Paris
X-WR-TIMEZONE:Europe/Paris
BEGIN:VEVENT
UID:5297@agenda24.fr
DTSTART;TZID=Europe/Paris:20250221T180000
DTEND;TZID=Europe/Paris:20250221T180000
DTSTAMP:20250213T103002Z
URL:https://agenda24.fr/evenements/presentation-de-la-saison-au-musee-voul
 gre-et-dedicace/
SUMMARY:Présentation de la saison au musée Voulgre et Dédicace
DESCRIPTION:Présentation de la saison et Dédicace à 18h\, Musée André 
 Voulgre : accrochage des tableaux de la collection du docteur Voulgre dans
  la galerie de la Chartreuse et présentation/dédicace du livre “La Nou
 velle histoire de la peinture en Périgord\, des peintres à la recherche 
 de l’incomparable horizon\npérigourdin” de Jean-Michel Linfort. \nTé
 l: 05 53 81 23 55.\n
CATEGORIES:Spectacle
LOCATION:Musée André Voulgre\, Musée André Voulgre\, Mussidan\, France
GEO:45.0375984;0.36281035
X-APPLE-STRUCTURED-LOCATION;VALUE=URI;X-ADDRESS=Musée André Voulgre\, Mus
 sidan\, France;X-APPLE-RADIUS=100;X-TITLE=Musée André Voulgre:geo:45.037
 5984,0.36281035
END:VEVENT
BEGIN:VTIMEZONE
TZID:Europe/Paris
X-LIC-LOCATION:Europe/Paris
BEGIN:STANDARD
DTSTART:20241027T020000
TZOFFSETFROM:+0200
TZOFFSETTO:+0100
TZNAME:CET
END:STANDARD
END:VTIMEZONE
END:VCALENDAR