BEGIN:VCALENDAR
VERSION:2.0
PRODID:-//wp-events-plugin.com//7.2.3.1//EN
TZID:Europe/Paris
X-WR-TIMEZONE:Europe/Paris
BEGIN:VEVENT
UID:11840@agenda24.fr
DTSTART;TZID=Europe/Paris:20260301T100000
DTEND;TZID=Europe/Paris:20260301T170000
DTSTAMP:20260301T135157Z
URL:https://agenda24.fr/evenements/premier-dimanche-du-mois-musees-gratuit
 s/
SUMMARY:Premier dimanche du mois : musées gratuits
DESCRIPTION:L'entrée du musée MAAP est gratuite le premier dimanche du mo
 is\, sauf juin\, juillet\, août et septembre.\nRenseignements : 05 53 06 
 40 70 / maap-accueil@perigueux.fr
CATEGORIES:Tourisme / Patrimoine
LOCATION:22 Cours Tourny\, 22 Cours Tourny\, Périgueux\, France
GEO:45.185965;0.7236471
X-APPLE-STRUCTURED-LOCATION;VALUE=URI;X-ADDRESS=22 Cours Tourny\, Périgueu
 x\, France;X-APPLE-RADIUS=100;X-TITLE=22 Cours Tourny:geo:45.185965,0.7236
 471
END:VEVENT
BEGIN:VTIMEZONE
TZID:Europe/Paris
X-LIC-LOCATION:Europe/Paris
BEGIN:STANDARD
DTSTART:20251026T020000
TZOFFSETFROM:+0200
TZOFFSETTO:+0100
TZNAME:CET
END:STANDARD
END:VTIMEZONE
END:VCALENDAR