BEGIN:VCALENDAR
VERSION:2.0
PRODID:-//wp-events-plugin.com//7.2.3.1//EN
TZID:Europe/Paris
X-WR-TIMEZONE:Europe/Paris
BEGIN:VEVENT
UID:8345@agenda24.fr
DTSTART;TZID=Europe/Paris:20250911T200000
DTEND;TZID=Europe/Paris:20250911T220000
DTSTAMP:20250909T102656Z
URL:https://agenda24.fr/evenements/pratique-de-rentree-gratuite-toutes-dan
 ses/
SUMMARY:Pratique de rentrée GRATUITE toutes danses
DESCRIPTION: Pratiques de Rentrée – Ouvertes à Tous ! \nAvant la repris
 e officielle des cours\, retrouvons-nous pour partager un moment convivial
  autour de la danse \n Pourquoi venir ?- Se remettre en mouvement en douce
 ur après la pause estivale\,- Profiter d’une activité gratuite et ouve
 rte à tous\,- Découvrir la danse\, même sans expérience préalable\,- 
 Rencontrer et échanger avec des danseurs d’horizons variés.Que vous so
 yez habitué(e) ou simplement curieux(se)\, venez tester\, danser et vous 
 amuser dans une ambiance conviviale et sans pression.\n Playlist Kizomba\,
  Bachata\, WCS et Rock essentiellement\n Date : Jeudi 11 septembre de 20h 
 à 22h Lieu : Maison Chan\, 2 chemin du barrage à Bergerac Tarif : Gratui
 t pour tous\nInfos des activités de l'Equipage Danse : www.equipagedanse.
 com
CATEGORIES:Soirées dansantes
LOCATION:Maison Chan\, 2 chemin du barrage\, BERGERAC\, 24\, 24100\, France
X-APPLE-STRUCTURED-LOCATION;VALUE=URI;X-ADDRESS=2 chemin du barrage\, BERGE
 RAC\, 24\, 24100\, France;X-APPLE-RADIUS=100;X-TITLE=Maison Chan:geo:0,0
END:VEVENT
BEGIN:VTIMEZONE
TZID:Europe/Paris
X-LIC-LOCATION:Europe/Paris
BEGIN:DAYLIGHT
DTSTART:20250330T030000
TZOFFSETFROM:+0100
TZOFFSETTO:+0200
TZNAME:CEST
END:DAYLIGHT
END:VTIMEZONE
END:VCALENDAR