BEGIN:VCALENDAR
VERSION:2.0
PRODID:-//wp-events-plugin.com//7.2.3.1//EN
TZID:Europe/Paris
X-WR-TIMEZONE:Europe/Paris
BEGIN:VEVENT
UID:8332@agenda24.fr
DTSTART;TZID=Europe/Paris:20250908T183000
DTEND;TZID=Europe/Paris:20250908T183000
DTSTAMP:20250908T141809Z
URL:https://agenda24.fr/evenements/pot-de-depart-de-bayrou-puis-selon-asse
 mblee-generale-de-preparation-du-10-09-2/
SUMMARY:Pot de départ de Bayrou (puis selon assemblée générale de prép
 aration du 10/09)
DESCRIPTION:
ATTACH;FMTTYPE=image/jpeg:https://agenda24.fr/wp-content/uploads/2025/09/I
 MG_2378.jpg
CATEGORIES:Militant
LOCATION:Mairie de Limoges\, cedex 1 FR\, 1 Sq. Jacques Chirac BP 3120\, Li
 moges\, 87031 \, France
X-APPLE-STRUCTURED-LOCATION;VALUE=URI;X-ADDRESS=cedex 1 FR\, 1 Sq. Jacques 
 Chirac BP 3120\, Limoges\, 87031 \, France;X-APPLE-RADIUS=100;X-TITLE=Mair
 ie de Limoges:geo:0,0
END:VEVENT
BEGIN:VTIMEZONE
TZID:Europe/Paris
X-LIC-LOCATION:Europe/Paris
BEGIN:DAYLIGHT
DTSTART:20250330T030000
TZOFFSETFROM:+0100
TZOFFSETTO:+0200
TZNAME:CEST
END:DAYLIGHT
END:VTIMEZONE
END:VCALENDAR