BEGIN:VCALENDAR
VERSION:2.0
PRODID:-//wp-events-plugin.com//7.2.3.1//EN
TZID:Europe/Paris
X-WR-TIMEZONE:Europe/Paris
BEGIN:VEVENT
UID:10353@agenda24.fr
DTSTART;TZID=Europe/Paris:20251219T200000
DTEND;TZID=Europe/Paris:20251219T200000
DTSTAMP:20251210T135536Z
URL:https://agenda24.fr/evenements/porc-epic-ateliers-theatre-la-vie-la/
SUMMARY:Porc-épic - ateliers théâtre La Vie Là
DESCRIPTION:Pièce tragi-festive. Auteur : David Paquet. Mise en scène : H
 élène Beuvin dans le cadre d'ateliers de pratique amateur avec l'associa
 tion La Vie Là.\nCassandre est belle\, drôle et seule. Aujourd’hui\, j
 our de son anniversaire\, elle préférerait être belle\, drôle et entou
 rée. Commence alors une chasse aux invités – personnel travaillant à 
 l'épicerie du coin et autres inconnus croisés par hasard – qui la mèn
 era bien plus loin qu’elle ne le croit. Agréable mélange d’absurde\,
  d’humour noir et de poésie\, ce texte est une tragédie festive où le
 s genres comme les gens s'entrechoquent et s'apprivoisent sur le chemin de
  la solitude\, de l'ouverture et de la vulnérabilité\, car peut-on touch
 er sans être piqué ?
CATEGORIES:Spectacle
LOCATION:La baleine à bascule\, 41 bis rue des alliés\, Piegut-Pluviers\,
  France
GEO:45.624304;0.6871625
X-APPLE-STRUCTURED-LOCATION;VALUE=URI;X-ADDRESS=41 bis rue des alliés\, Pi
 egut-Pluviers\, France;X-APPLE-RADIUS=100;X-TITLE=La baleine à bascule:ge
 o:45.624304,0.6871625
END:VEVENT
BEGIN:VTIMEZONE
TZID:Europe/Paris
X-LIC-LOCATION:Europe/Paris
BEGIN:STANDARD
DTSTART:20251026T020000
TZOFFSETFROM:+0200
TZOFFSETTO:+0100
TZNAME:CET
END:STANDARD
END:VTIMEZONE
END:VCALENDAR