BEGIN:VCALENDAR
VERSION:2.0
PRODID:-//wp-events-plugin.com//7.2.3.1//EN
TZID:Europe/Paris
X-WR-TIMEZONE:Europe/Paris
BEGIN:VEVENT
UID:10350@agenda24.fr
DTSTART;TZID=Europe/Paris:20251218T203000
DTEND;TZID=Europe/Paris:20251218T203000
DTSTAMP:20251210T135536Z
URL:https://agenda24.fr/evenements/pieces-en-plastique/
SUMMARY:Pièces en plastique
DESCRIPTION:Ulrike et Michael embauchent Jessica pour s’occuper de leur m
 aison et de Vincent\, leur enfant. Jessica fait le ménage\, elle fait à 
 manger\, elle s’occupe de Vincent. Elle fait ce que Ulrike et Michael n
 ’ont pas le temps de faire. Peu à peu\, elle devient indispensable. Ulr
 ike en fait son amie\, Michael sa confidente\, et Vincent noue avec elle d
 es liens fraternels. Même Serge\nHaulupa\, le patron d’Ulrike - grand a
 rtiste plasticien - en fait sa muse.\nJusqu’où cette famille forcera Je
 ssica à mettre à leur disposition son corps et sa personne toute entièr
 e ?
CATEGORIES:Spectacle
LOCATION:Salle culturelle Le Nantholia\, Les Grésilles\, Nantheuil\, Franc
 e
GEO:45.414005;0.938391
X-APPLE-STRUCTURED-LOCATION;VALUE=URI;X-ADDRESS=Les Grésilles\, Nantheuil\
 , France;X-APPLE-RADIUS=100;X-TITLE=Salle culturelle Le Nantholia:geo:45.4
 14005,0.938391
END:VEVENT
BEGIN:VTIMEZONE
TZID:Europe/Paris
X-LIC-LOCATION:Europe/Paris
BEGIN:STANDARD
DTSTART:20251026T020000
TZOFFSETFROM:+0200
TZOFFSETTO:+0100
TZNAME:CET
END:STANDARD
END:VTIMEZONE
END:VCALENDAR