BEGIN:VCALENDAR
VERSION:2.0
PRODID:-//wp-events-plugin.com//7.2.3.1//EN
TZID:Europe/Paris
X-WR-TIMEZONE:Europe/Paris
BEGIN:VEVENT
UID:9730@agenda24.fr
DTSTART;TZID=Europe/Paris:20251206T200000
DTEND;TZID=Europe/Paris:20251206T220000
DTSTAMP:20251101T090450Z
URL:https://agenda24.fr/evenements/piece-en-plastique-festival-trafik/
SUMMARY:Pièce en plastique – Festival [TrafiK]*
DESCRIPTION:Théâtre\nà partir de 14 ans\nDurée : 2h\nUlrike et Michael 
 embauchent Jessica pour s’occuper de leur maison et de Vincent\, leur en
 fant. Jessica fait le ménage\, elle fait à manger\, elle s’occupe de V
 incent. Elle fait ce que Ulrike et Michael n’ont pas le temps de faire. 
 Peu à peu\, elle devient indispensable. Ulrike en fait son amie\, Michael
  sa confidente\, et Vincent noue avec elle des liens fraternels. Même Ser
 ge Haulupa\, le patron d’Ulrike – grand artiste plasticien – en fait
  sa muse. Jusqu’où cette famille forcera Jessica à mettre à leur disp
 osition son corps et sa personne toute entière ?
CATEGORIES:Spectacle
LOCATION:Auditorium – Espace François Mitterrand\, 23 boulevard Henri Si
 card\, Bergerac\, France
GEO:44.8449281;0.480124
X-APPLE-STRUCTURED-LOCATION;VALUE=URI;X-ADDRESS=23 boulevard Henri Sicard\,
  Bergerac\, France;X-APPLE-RADIUS=100;X-TITLE=Auditorium – Espace Franç
 ois Mitterrand:geo:44.8449281,0.480124
END:VEVENT
BEGIN:VTIMEZONE
TZID:Europe/Paris
X-LIC-LOCATION:Europe/Paris
BEGIN:STANDARD
DTSTART:20251026T020000
TZOFFSETFROM:+0200
TZOFFSETTO:+0100
TZNAME:CET
END:STANDARD
END:VTIMEZONE
END:VCALENDAR